BEGIN:VCALENDAR
VERSION:2.0
PRODID:-//Théâtre des Rues - ECPv4.6.23//NONSGML v1.0//EN
CALSCALE:GREGORIAN
METHOD:PUBLISH
X-WR-CALNAME:Théâtre des Rues
X-ORIGINAL-URL:http://theatredesrues.be
X-WR-CALDESC:Évènements pour Théâtre des Rues
BEGIN:VEVENT
DTSTART;TZID=UTC+1:20230526T200000
DTEND;TZID=UTC+1:20230526T220000
DTSTAMP:20260423T171247
CREATED:20230316T153125Z
LAST-MODIFIED:20230316T153249Z
UID:3498-1685131200-1685138400@theatredesrues.be
SUMMARY:LES GENS DE PEU
DESCRIPTION: \nDans le cadre de la tournée sectorielle « Portes (Déc)Ouvertes » organisée par la Fédération de Théâtre Action :  \nLES GENS DE PEU  \nParcours d’insoumissions\, rythmé de doutes\, de velléités\, d’acharnements\, d’enthousiasmes à transformer le monde\, « LES GENS DE PEU » est un spectacle plein de vitalité et d’audace inspiré par la vie même de celui qui le joue.  Il interroge la désobéissance comme mode de lutte\, voire d’existence au quotidien\, et son corollaire nécessaire : la solidarité\, la vraie\, pas la condescendante mais celle où s’ancrent la réciprocité\, le désir et l’amitié.  Des échanges de sourires aux moqueries bienveillantes en passant par les coups de mains clandestins ou illégaux\, « LES GENS DE PEU » nous balancent des claques d’amour\, celles qui remettent debout quand on se sent devenir paralytique. Parce que l’histoire des gens de peu n’est pas un détail dans l’histoire\, … c’est l’Histoire. \nÉquipe artistique : \nProduction : Acteurs de l’Ombre \nÉcriture et jeu : Thierry Müller \nMise en scène et dramaturgie : Sara Puma \nCréation son : Nicolas Puma \nCréation lumière : Marino Pol \nCostume : Nicole Coulon \nCommunication/diffusion/graphisme : Nena Sanchez \nAvec le soutien de la Fédération Wallonie Bruxelles\, du Fonds social européen et de la Région Wallonne. \n  \n———————————————————————————\nRENSEIGNEMENTS ET RÉSERVATIONS :\n065/31.34.44 // theatredesrues@skynet.be\n———————————————————————————- \nGRATUIT \n
URL:http://theatredesrues.be/event/les-gens-de-peu/
LOCATION:Théatre des Rues\, Rue du Cerisier 20\, Cuesmes\, Hainaut\, 7033\, Belgique
ORGANIZER;CN="Th%C3%A9%C3%A2tre%20des%20Rues":MAILTO:theatredesrues@skynet.be
END:VEVENT
END:VCALENDAR