BEGIN:VCALENDAR
VERSION:2.0
PRODID:-//Théâtre des Rues - ECPv4.6.23//NONSGML v1.0//EN
CALSCALE:GREGORIAN
METHOD:PUBLISH
X-WR-CALNAME:Théâtre des Rues
X-ORIGINAL-URL:https://theatredesrues.be
X-WR-CALDESC:Évènements pour Théâtre des Rues
BEGIN:VEVENT
DTSTART;TZID=UTC+1:20260513T140000
DTEND;TZID=UTC+1:20260513T170000
DTSTAMP:20260420T115314
CREATED:20260316T111410Z
LAST-MODIFIED:20260316T115439Z
UID:4466-1778680800-1778691600@theatredesrues.be
SUMMARY:Frontera
DESCRIPTION:Les 400 coups de Théâtre-Action 2026 vous présentent : Frontera\n\n✤ Frontera\, c’est l’histoire des frontières\, du fil de fer barbelé\, et d’une personne qui\, ayant fui un pays ruiné par la guerre\, tente de reconstruire une vie heureuse…\nNaviguant entre univers décalé et réalisme\, entre objets et humains\, le spectacle FRONTERA tente de dépeindre le système mondial actuel tout en racontant\, de manière détournée et collective\, l’histoire de Mohammed\, un comédien sans papier qui\, tentant de fuir un pays ruiné par la guerre\, a intégré notre projet. Le spectacle a pour but d’éveiller à une réflexion sur l’essence même des frontières et de donner un visage et une voix à toutes ces personnes qui quittent leur pays.\nPlus qu’un spectacle\, une aventure humaine. ✤\n\nUne création collective du Théâtre des 4 mains et de la cie Projet Cryotopsie.\n\n——————————————————————————–\n\nPublic : Tout public dès 9 ans\nInfos et Réservations :theatredesrues@skynet.be065/31.34.44\n——————————————————————————–\n\nTarifs :\nPAF : 9 euros5.00 € pour les groupes\, chômeurs et étudiants3.00 € pour les – de 14 ans1.25 € pour Article 27\n\n\n\n\n
URL:https://theatredesrues.be/event/frontera/
LOCATION:Théâtre des Rues\, Rue du Cerisier 20\, Cuesmes\, 7033\, Belgique
END:VEVENT
BEGIN:VEVENT
DTSTART;TZID=UTC+1:20260606T140000
DTEND;TZID=UTC+1:20260606T170000
DTSTAMP:20260420T115314
CREATED:20260316T111924Z
LAST-MODIFIED:20260316T115526Z
UID:4468-1780754400-1780765200@theatredesrues.be
SUMMARY:Le Cerisier en fête
DESCRIPTION:Les 400 coups de Théâtre-Action 2026 vous présentent :\nLe Cerisier en fête !\n✤ Venez fêter l’arrivée des beaux jours au Cerisier !Avec plusieurs partenaires\, nous vous concoctons une journée aux petits oignons : balade à vélo\, spectacle d’impro\, ambiance festive…\nLe programme complet arrive bientôt sur nos réseaux sociaux ✤\n\nEn collaboration avec le CIEP\, Borinage 2000\, la MJ Cuesmes\, le CRI MB-WAPI\,…\n——————————\nInfos et réservations :theatredesrues@skynet.be065/31.34.44\n\n——————————\n\nGratuit\n\n\n
URL:https://theatredesrues.be/event/le-cerisier-en-fete/
LOCATION:Théâtre des Rues\, Rue du Cerisier 20\, Cuesmes\, 7033\, Belgique
END:VEVENT
BEGIN:VEVENT
DTSTART;TZID=UTC+1:20260619T200000
DTEND;TZID=UTC+1:20260619T220000
DTSTAMP:20260420T115314
CREATED:20260316T112905Z
LAST-MODIFIED:20260316T115545Z
UID:4470-1781899200-1781906400@theatredesrues.be
SUMMARY:Le tic-tac de l'Oubli
DESCRIPTION:Les 400 coups de Théatre-Action vous présentent :\nLe Tic Tac de l’oubli\n\n✤ Les yeux rivés sur l’horloge\, Sonia n’a pourtant pas vu le temps passer\, jusqu’à cette première ride apparue au coin des yeux. Commence alors un drôle de voyage à travers les jours\, minutes et secondes qui s’accélèrent sur l’infernal cadran de l’horloge.\nTic tac\, tic tac… Au fur et à mesure qu’entre ses doigts glissent un à un les grains du sablier\, Sonia va naviguer entre les choix et obligations qui l’attendent et découvrir que quand on est un femme\, vieillier est une double peine.\nAu croisement des luttes contre le sexisme et l’âgisme\, le spectacle « Le Tic Tac de l’Oubli » dénonce le regard que notre société pose sur la femme de plus de 50 ans dans son rapport au temps : celui qui creuse les inégalités entre femmes et hommes\, celui qui invisibilise les corps vieillisants.\nTic tac\, tic tac… Alors comment rester dans « le moove » ? Comment accepter son premier cheveu blanc ? Comment arrêter de courir après le temps ? Le compte à rebours est lancé ! ✤\n\nUne création collective de théâtre-action en collaboration avec le PAC Mons-Borinage\, le Centre Culturel de Boussu et Le Théâtre des Rues\n\n——————————\nInfos et réservations :theatredesrues@skynet.be065/31.34.44\n\n\n——————————\n\nTarifs : 5 euros 3€ pour les – de 14 ans1\,25€ pour Article 27\n\n\n\n
URL:https://theatredesrues.be/event/tic-tac-de-loubli/
LOCATION:Théâtre des Rues\, Rue du Cerisier 20\, Cuesmes\, 7033\, Belgique
END:VEVENT
BEGIN:VEVENT
DTSTART;TZID=UTC+1:20260926T160000
DTEND;TZID=UTC+1:20260926T170000
DTSTAMP:20260420T115314
CREATED:20260316T113311Z
LAST-MODIFIED:20260316T115607Z
UID:4472-1790438400-1790442000@theatredesrues.be
SUMMARY:Voix plurielles - Au croisement d'ici et d'ailleurs
DESCRIPTION:Les 400 coups de Théatre-Action 2026 vous présentent :\nVOIX PLURIELLES au croisement d’ici et d’ailleurs\n\n✤ Partout dans le monde\, les mouvements d’extrême droite et les idées racistes qu’ils véhiculent gagnent du terrain. De plus en plus banalisés\, certains discours se traduisent aujourd’hui dans les choix politiques et dans le durcissement des politiques migratoires.\nFace à ces constats\, nous vous invitons à ce moment thématique consacré à la lutte contre le racisme et la mise en lumière de parcours de vie de personnes d’origine étrangère.\nAu programme : création collective de théâtre-action\, exposition\, animations dans un espace d’échange et de réflexion.✤\n\nNous vous attendons nombreuses et nombreux pour faire de cette soirée un moment de dialogue interculturel et de solidarité !\n\nA l’initiative du CIEP Hainaut-Centre\, du Cri MB-Wapi et du Théâtre des Rues.\n\nAvec le soutien de La Fédération Wallonie-Bruxelles dans le cadre de la Promotion à la Citoyenneté et à l’Interculturalité\n——————————————————-\nInfos et réservations :theatredesrues@skynet.be065/31.34.44\n\n——————————————————-\n\nGratuit\n\n\n
URL:https://theatredesrues.be/event/voix-plurielles-croisement-dici-dailleurs/
LOCATION:Théâtre des Rues\, Rue du Cerisier 20\, Cuesmes\, 7033\, Belgique
END:VEVENT
BEGIN:VEVENT
DTSTART;TZID=UTC+1:20261002T200000
DTEND;TZID=UTC+1:20261002T200000
DTSTAMP:20260420T115314
CREATED:20260316T114751Z
LAST-MODIFIED:20260316T115629Z
UID:4476-1790971200-1790971200@theatredesrues.be
SUMMARY:Tchôdron - Spectacle Tsulfureux
DESCRIPTION:Les 400 Coups de Théâtre Action présentent  \nTchôdron – un spectacle Tsulfureux  \n✤ Parce que vous n’avez pas pu brûler nos arrière-grands-mères\, aujourd’hui nous les chantons\, nous les dansons\, nous les embrassons comme vous ne les avez pas embrasées ! \nça existe les sorcières ? À quoi ça ressemble ? Et si la sorcière n’était pas qu’un personnage au grand nez qui fait bouillir des enfants dans son chaudron mais avant tout une femme\, une femme persécutée\, une voisine qui soigne les brûlures\, une amie qui fait des tisanes\, une grand-mère au potager bien rempli ?\nMalou et Léa racontent et rencontrent celles d’hier qu’on a brûlées et celles d’aujourd’hui qui se révèlent : Mamé et ses plantes magiques\, Michée et son bûcher\, Madeleine et ses mains curatives.\nAujourd’hui\, comment se relier à notre passé\, à nos peurs\, à ce qui nous dépasse\, au vivant ?\nSur la scène\, deux comédiennes s’envolent\, libèrent les corps et les voix. Parce que oui\, les sorcières ça décape et dépote !\nEn compagnie de marionnettes\, de guitares\, de témoignages\, les actrices se déchaînent sauvagement pour désenchaîner gaiement nos sorcières oubliées.✤  \nUn projet porté par Une petite compagnie\n\nMention du jury des Rencontres Jeune Public de Huy : “Pour l’exploration pluridisciplinaire réussie des matrimoines d’hier et d’aujourd’hui” \nDans le cadre des Journées du Matrimoine à Mons\, à l’initiative du PAC\, de Picardie Laïque et de Soralia \nA partir de 10 ans \n——————————————————————– \nInfos et réservations :\ntheatredesrues@skynet.be065/31.34.44 \n——————————————————————–\nTarifs :PAF : 9 euros5.00 € pour les groupes\, chômeurs et étudiants3.00 € pour les – de 14 ans1.25 € pour Article 27 \n  \n \n
URL:https://theatredesrues.be/event/tchodron-spectacle-tsulfureux/
LOCATION:Théâtre des Rues\, Rue du Cerisier 20\, Cuesmes\, 7033\, Belgique
END:VEVENT
BEGIN:VEVENT
DTSTART;TZID=UTC+1:20261113T190000
DTEND;TZID=UTC+1:20261113T190000
DTSTAMP:20260420T115314
CREATED:20260316T113802Z
LAST-MODIFIED:20260316T115708Z
UID:4474-1794596400-1794596400@theatredesrues.be
SUMMARY:"À quelques pas " à la MJ Le Château
DESCRIPTION:Les 400 coups de Théâtre-Action vous présentent :\nÀ quelques pas\n✤ « À quelques pas » est l’histoire de Jeanne. Elle a 90 ans. Son désir de vivre est un peu endormi dans une maison où le repos est l’ambiance générale. Elle se réveille d’une sieste et découvre\, posée sur une table à quelques pas de son lit\, une enveloppe. Le désir brûlant de lire la lettre devient le moteur de son aventure : elle marchera seule jusqu’à la table\, avec son vieux corps fatigué. Ce ne sont que trois mètres et Jeanne a toujours aimé marcher ! Dans l’expédition\, elle retrouve le feu de sa jeunesse et de ses souvenirs. ✤\n\n\nUn spectacle de la Compagnie Fil en Trop’ \n\nSpectacle se déroulant à la MJ Le Château \n———————————————\nPublic :Tout public dès 8 ans\n\n———————————————\n\nInfos et réservations :theatredesrues@skynet.be065/31.34.44\n\n———————————————\n\nTarifs :PAF : 9 euros5.00 € pour les groupes\, chômeurs et étudiants3.00 € pour les – de 14 ans1.25 € pour Article 27\n\n\n
URL:https://theatredesrues.be/event/a-quelques-a-mj-chateau/
LOCATION:Maison de Jeunes « Le Château »\, Rue du Tour 116\, Petit-Hornu\, 7301\, Belgique
END:VEVENT
BEGIN:VEVENT
DTSTART;TZID=UTC+1:20261120T190000
DTEND;TZID=UTC+1:20261122T190000
DTSTAMP:20260420T115314
CREATED:20260316T114955Z
LAST-MODIFIED:20260316T115734Z
UID:4479-1795201200-1795374000@theatredesrues.be
SUMMARY:Enragez-vous 2026 !
DESCRIPTION:Enragez-vous 2026 \nFestival d’automne du Théâtre Action – Édition spéciale internationale \nEn 2026\, le festival d’automne du Théâtre Action met à l’honneur les nouvelles créations des compagnies belges de théâtre action\, réalisées en coproduction avec leurs partenaires étrangers de longue date (Italie\, Québec\, Palestine…). Une édition placée sous le signe de la rencontre\, du partage et du dialogue au-delà des frontières. \nTout au long du week-end : des spectacles internationaux\, des spectacles d’atelier en création collective\, une conférence et des temps de rencontre avec les artistes. \nUn festival pour découvrir des paroles engagées\, des regards croisés sur le monde et des créations qui font résonner les réalités d’ici et d’ailleurs. \nOsez la découverte ! \nLe programme complet est en cours de finalisation et sera dévoilé prochainement. \nInformations : www.theatre-action.be \n  \nUne organisation du Centre du Théâtre Action\, en partenariat avec le Théâtre des Rues. \n  \n \n  \n
URL:https://theatredesrues.be/event/enragez-vous-2026/
LOCATION:Théâtre des Rues\, Rue du Cerisier 20\, Cuesmes\, 7033\, Belgique
END:VEVENT
END:VCALENDAR