BEGIN:VCALENDAR
VERSION:2.0
PRODID:-//Théâtre des Rues - ECPv4.6.23//NONSGML v1.0//EN
CALSCALE:GREGORIAN
METHOD:PUBLISH
X-WR-CALNAME:Théâtre des Rues
X-ORIGINAL-URL:https://theatredesrues.be
X-WR-CALDESC:Évènements pour Théâtre des Rues
BEGIN:VEVENT
DTSTART;TZID=UTC+1:20250830T160000
DTEND;TZID=UTC+1:20250830T180000
DTSTAMP:20260423T173019
CREATED:20250602T103134Z
LAST-MODIFIED:20250602T131852Z
UID:4222-1756569600-1756576800@theatredesrues.be
SUMMARY:Les Dégainées
DESCRIPTION:\n➥ Les 400 Coups de Théâtre-Action 2025 vous présentent : Les Dégainées \n\n\n\n\n✤ Deux ouvrières de lingerie fine des années ‘70 débarquent en camionnette estafette pour vendre des dessous !\n\nElles ont travaillé toute leur vie dans une usine de lingerie de luxe qui a décidé de délocaliser. Alors elles s’organisent et créent leur propre collection\, sans le corset patronal et masculin. Un combat pour l’émancipation des femmes\, à travers une histoire sacrément culottée !Suivi d’un échange en bord de scène avec les comédiennes et les associations porteuses du projet qui feront le lien avec l’occupation de l’usine de Jeans Salik à Quaregnon fin des années ’70. ✤ \n\nUne création de la Cie L’estafette \nInterprètes : Emilie Debard\, Sophie Pénicaut\, Emilien Lafforgue // Technicien : valentin Caillieret // Ecriture\, mise en scène : Emilie Debard // Regard extérieur : Willy Claeyssens\, Hacid Bouabaya \n————————————————————————— \nEn amont du spectacle : \n 10h –   Le podium sans complexe\nAtelier d’expression corporelle entre danse et théâtre pour prendre confiance en soi tout en s’amusant et s’assumant. Il s’agit de valoriser les personnes participantes au défilé de mode  en se jouant des codes des défilés de haute couture. Il est demandé aux participants d’assister à la représentation car ils seront pris à partie pour monter sur scène en fin de spectacle.  \n13h30 à 15h30 –  atelier slogans\nApprendre à exprimer ses idées et les mettre en slogan ! pancarte\, totebag\, badges ou banderole.\nOn vous fournit tout le matériel créatif et de réflexion pour  laisser libre court à votre créativité et à vos engagements!\nÀ l’initiative de Soralia \n\n—————————————————————————RENSEIGNEMENTS ET RÉSERVATIONS :065/31.34.44 // theatredesrues@skynet.be—————————————————————————GRATUIT\n—————————————————————————\nAvec le soutien de  CEPAG-Borinage 2000\, CIEP du MOC Hainaut\, CSC Mons-La Louvière\, achACT asbl\, We Social Movements\n
URL:https://theatredesrues.be/event/les-degainees/
END:VEVENT
END:VCALENDAR